BEGIN:VCALENDAR
VERSION:2.0
PRODID:-//Barton upon Humber Tourism - ECPv4.6.21//NONSGML v1.0//EN
CALSCALE:GREGORIAN
METHOD:PUBLISH
X-WR-CALNAME:Barton upon Humber Tourism
X-ORIGINAL-URL:https://www.barton-upon-humber.org.uk
X-WR-CALDESC:Events for Barton upon Humber Tourism
BEGIN:VEVENT
DTSTART;TZID=Europe/London:20241201T101500
DTEND;TZID=Europe/London:20241201T121500
DTSTAMP:20260425T191626
CREATED:20241115T152930Z
LAST-MODIFIED:20241115T152930Z
UID:16555-1733048100-1733055300@www.barton-upon-humber.org.uk
SUMMARY:Christmas Log Slice Decorations Workshop
DESCRIPTION:Join Ramona Maywood Studio for her first Christmas workshop at Water’s Edge. \nDecorate your log slice to your own colour scheme and design using responsibly sourced pebbles\, wood and sea glass.You will make 2 large and 1 small decoration that you will take away with you on the day.Sunday 1st December10.15am – 12.15pm£28 p/pPlease call the centre on 01652 631500 to book your place. \n
URL:https://www.barton-upon-humber.org.uk/event/christmas-log-slice-decorations-workshop/
LOCATION:Waters' Edge\, Maltkiln Road\, Barton-upon-Humber\, North Lincolnshire\, DN18 5BD\, United Kingdom
CATEGORIES:Family Friendly,Workshops
END:VEVENT
END:VCALENDAR