BEGIN:VCALENDAR
VERSION:2.0
PRODID:-//Barton upon Humber Tourism - ECPv4.6.21//NONSGML v1.0//EN
CALSCALE:GREGORIAN
METHOD:PUBLISH
X-WR-CALNAME:Barton upon Humber Tourism
X-ORIGINAL-URL:https://www.barton-upon-humber.org.uk
X-WR-CALDESC:Events for Barton upon Humber Tourism
BEGIN:VEVENT
DTSTART;TZID=Europe/London:20240309T103000
DTEND;TZID=Europe/London:20240309T163000
DTSTAMP:20260419T172250
CREATED:20240121T110211Z
LAST-MODIFIED:20240121T110211Z
UID:15048-1709980200-1710001800@www.barton-upon-humber.org.uk
SUMMARY:Book Binding Workshop with David Allsop at The Ropewalk
DESCRIPTION:Learn the traditional bookbinding techniques of folding\, sewing\, pasting\, creating a case and finally casing in to create your own bespoke hardback A5 notebook. \n  \nYou will choose from a range of beautiful endpapers and book coverings. \nThere is no prior experience needed. \n
URL:https://www.barton-upon-humber.org.uk/event/book-binding-workshop-with-david-allsop-at-the-ropewalk/
LOCATION:Maltkiln Road\, Barton upon Humber\, North Lincolnshire\, DN18 5JT\, United Kingdom
CATEGORIES:Workshops
ORGANIZER;CN="The%20Ropewalk":MAILTO:info@the-ropewalk.co.uk
END:VEVENT
BEGIN:VEVENT
DTSTART;TZID=Europe/London:20240309T103000
DTEND;TZID=Europe/London:20240309T163000
DTSTAMP:20260419T172250
CREATED:20240121T110448Z
LAST-MODIFIED:20240121T110448Z
UID:15051-1709980200-1710001800@www.barton-upon-humber.org.uk
SUMMARY:Willow Rib Basket Workshop with Alison Walling
DESCRIPTION:  \n\n\n\nLearn to make this very useful round basket with a handle\, perfect for eggs or fruit. Using traditional techniques and a variety of willows this little basket is a great introduction to further willow work. \n\nPlease remember to wear sensible closed toe shoes. \n\nBook a place on this workshop\n\n\n
URL:https://www.barton-upon-humber.org.uk/event/willow-rib-basket-workshop-with-alison-walling/
LOCATION:Maltkiln Road\, Barton upon Humber\, North Lincolnshire\, DN18 5JT\, United Kingdom
CATEGORIES:Workshops
ORGANIZER;CN="The%20Ropewalk":MAILTO:info@the-ropewalk.co.uk
END:VEVENT
END:VCALENDAR