BEGIN:VCALENDAR
VERSION:2.0
PRODID:-//Barton upon Humber Tourism - ECPv4.6.21//NONSGML v1.0//EN
CALSCALE:GREGORIAN
METHOD:PUBLISH
X-WR-CALNAME:Barton upon Humber Tourism
X-ORIGINAL-URL:https://www.barton-upon-humber.org.uk
X-WR-CALDESC:Events for Barton upon Humber Tourism
BEGIN:VEVENT
DTSTART;TZID=Europe/London:20240210T103000
DTEND;TZID=Europe/London:20240210T153000
DTSTAMP:20260421T185147
CREATED:20240121T102433Z
LAST-MODIFIED:20240121T102433Z
UID:15031-1707561000-1707579000@www.barton-upon-humber.org.uk
SUMMARY:Tickle Your Taste Buds - Creative Writing Workshop at The Ropewalk
DESCRIPTION:Come along and sample from an extensive buffet of writing based around the theme of food and drink alongside tutor Sue Wilsea. (If it’s not on the menu\, you can choose to write about whatever you like!) The workshop will offer taster dishes in the form of practical exercises and suggestions for writing. Suitable for absolute beginners and those who have written before. \n
URL:https://www.barton-upon-humber.org.uk/event/tickle-your-taste-buds-creative-writing-workshop-at-the-ropewalk/
LOCATION:Maltkiln Road\, Barton upon Humber\, North Lincolnshire\, DN18 5JT\, United Kingdom
CATEGORIES:Workshops
ORGANIZER;CN="The%20Ropewalk":MAILTO:info@the-ropewalk.co.uk
END:VEVENT
END:VCALENDAR