BEGIN:VCALENDAR
VERSION:2.0
PRODID:-//Barton upon Humber Tourism - ECPv4.6.21//NONSGML v1.0//EN
CALSCALE:GREGORIAN
METHOD:PUBLISH
X-WR-CALNAME:Barton upon Humber Tourism
X-ORIGINAL-URL:https://www.barton-upon-humber.org.uk
X-WR-CALDESC:Events for Barton upon Humber Tourism
BEGIN:VEVENT
DTSTART;TZID=Europe/London:20240130T100000
DTEND;TZID=Europe/London:20240130T120000
DTSTAMP:20260422T143257
CREATED:20240104T111234Z
LAST-MODIFIED:20240104T111234Z
UID:14687-1706608800-1706616000@www.barton-upon-humber.org.uk
SUMMARY:Pottery Spoon Making Workshop at Trinity Methodist Church
DESCRIPTION:Use stoneware clay to make two beautiful ceramic spoons\, adding patterns and detail and finishing the handle with a leaf or toadstool top. Work will be glazed\, fired and returned after the workshop. Materials and refreshments included. Over-60s only part of the Living Later Life Well Project.\n£10 Call Jo on 07821 900623 to book. \n
URL:https://www.barton-upon-humber.org.uk/event/pottery-spoon-making-workshop-at-trinity-methodist-church/
LOCATION:Holydyke\, Barton-upon-Humber\, North Lincolnshire\, DN18 5PS
CATEGORIES:Workshops
END:VEVENT
END:VCALENDAR