BEGIN:VCALENDAR
VERSION:2.0
PRODID:-//Barton upon Humber Tourism - ECPv4.6.21//NONSGML v1.0//EN
CALSCALE:GREGORIAN
METHOD:PUBLISH
X-WR-CALNAME:Barton upon Humber Tourism
X-ORIGINAL-URL:https://www.barton-upon-humber.org.uk
X-WR-CALDESC:Events for Barton upon Humber Tourism
BEGIN:VEVENT
DTSTART;TZID=Europe/London:20251108T200000
DTEND;TZID=Europe/London:20251108T223000
DTSTAMP:20260421T085246
CREATED:20250806T111359Z
LAST-MODIFIED:20250806T111359Z
UID:17739-1762632000-1762641000@www.barton-upon-humber.org.uk
SUMMARY:Chris Bannister at Ropery Hall
DESCRIPTION:Chris Bannister is a singer-songwriter from North West England\, his first album ‘Only Human’ was released in 1992 and got extensive airplay and was acclaimed by RPM magazine as one of the albums heralding a new singer-songwriter era. He has released eight albums of original songs and his latest ‘The Calling Course’ has featured on multiple country and folk music charts worldwide including a number one on the Australian country charts in December 2024 for the song ‘Cape Breton Wind’. The evening will include a selection of originals plus some of the songwriters that have inspired him over the years\, from Springsteen\, Dylan\, Steve Earle and more. \n
URL:https://www.barton-upon-humber.org.uk/event/chris-bannister-at-ropery-hall-2/
LOCATION:The Ropewalk\, Maltkiln Road\, Barton upon Humber\, North Lincolnshire\, DN18 5JT\, United Kingdom
CATEGORIES:Music
ORGANIZER;CN="Ropery%20Hall":MAILTO:info@the-ropewalk.co.uk
END:VEVENT
END:VCALENDAR