BEGIN:VCALENDAR
VERSION:2.0
PRODID:-//Barton upon Humber Tourism - ECPv4.6.21//NONSGML v1.0//EN
CALSCALE:GREGORIAN
METHOD:PUBLISH
X-WR-CALNAME:Barton upon Humber Tourism
X-ORIGINAL-URL:https://www.barton-upon-humber.org.uk
X-WR-CALDESC:Events for Barton upon Humber Tourism
BEGIN:VEVENT
DTSTART;TZID=Europe/London:20250920T100000
DTEND;TZID=Europe/London:20250920T120000
DTSTAMP:20260420T092332
CREATED:20250903T145941Z
LAST-MODIFIED:20250903T145941Z
UID:17999-1758362400-1758369600@www.barton-upon-humber.org.uk
SUMMARY:Folklincs Open Morning - Heritage Open Days
DESCRIPTION:Come along to the Folklincs Open Morning to learn about classes available including folk song\, traditional fiddle\, melodeon\, Anglo Concertina\, accordion\, tenor banjo\, guitar\, clog dancing\, penny whistle and beginner ukulele. \n
URL:https://www.barton-upon-humber.org.uk/event/folklincs-open-morning-heritage-open-days/
LOCATION:The Ropewalk\, Maltkiln Road\, Barton upon Humber\, North Lincolnshire\, DN18 5JT\, United Kingdom
CATEGORIES:Family Friendly,Heritage,Music
END:VEVENT
BEGIN:VEVENT
DTSTART;TZID=Europe/London:20250920T200000
DTEND;TZID=Europe/London:20250920T223000
DTSTAMP:20260420T092332
CREATED:20250806T093918Z
LAST-MODIFIED:20250806T093918Z
UID:17650-1758398400-1758407400@www.barton-upon-humber.org.uk
SUMMARY:Chantel McGregor at Ropery Hall
DESCRIPTION:Chantel McGregor released her third studio album\, ‘The Healing’\, in May. Over the last 15 years the Yorkshire-born guitarist\, singer and songwriter has carved a reliable presence on the British gig circuit\, traversing the length and breadth of the country and appearing at some of the biggest festivals. Chantel attended Leeds College of Music where she achieved a number of awards\, including the Leeds College of Music Prize for Outstanding Musicianship. Since gaining a First Class Honours degree in Popular Music in 2008 she has gone on to develop a career in the UK and international blues and rock music scene\, performing solo and with her band. \n
URL:https://www.barton-upon-humber.org.uk/event/chantel-mcgregor-at-ropery-hall-2/
LOCATION:The Ropewalk\, Maltkiln Road\, Barton upon Humber\, North Lincolnshire\, DN18 5JT\, United Kingdom
CATEGORIES:Music
ORGANIZER;CN="Ropery%20Hall":MAILTO:info@the-ropewalk.co.uk
END:VEVENT
END:VCALENDAR