BEGIN:VCALENDAR
VERSION:2.0
PRODID:-//Barton upon Humber Tourism - ECPv4.6.21//NONSGML v1.0//EN
CALSCALE:GREGORIAN
METHOD:PUBLISH
X-WR-CALNAME:Barton upon Humber Tourism
X-ORIGINAL-URL:https://www.barton-upon-humber.org.uk
X-WR-CALDESC:Events for Barton upon Humber Tourism
BEGIN:VEVENT
DTSTART;TZID=Europe/London:20250814T110000
DTEND;TZID=Europe/London:20250814T150000
DTSTAMP:20260420T035628
CREATED:20250801T072605Z
LAST-MODIFIED:20250801T072605Z
UID:17641-1755169200-1755183600@www.barton-upon-humber.org.uk
SUMMARY:Building stories at Wilderspin School Museum
DESCRIPTION:A top-to-bottom exploration of the School building\, and a family challenge to test your observational skills – and a chance to enter Barton Civic Society’s Children’s Competition 2025. \n£1.50 for trail including Heritage Open Days but free admission during HOD \n
URL:https://www.barton-upon-humber.org.uk/event/building-stories-at-wilderspin-school-museum-6/
LOCATION:Queen Street\, Barton-upon-Humber\, North Lincolnshire\, DN18 5QP
CATEGORIES:Family Friendly,Heritage
ORGANIZER;CN="Wilderspin%20School%20Museum":MAILTO:enquiries@wilderspinschool.org.uk
END:VEVENT
BEGIN:VEVENT
DTSTART;TZID=Europe/London:20250814T113000
DTEND;TZID=Europe/London:20250814T140000
DTSTAMP:20260420T035628
CREATED:20250716T102535Z
LAST-MODIFIED:20250716T102615Z
UID:17599-1755171000-1755180000@www.barton-upon-humber.org.uk
SUMMARY:Teddy Bears Playground Picnic & Treasure Hunt
DESCRIPTION:BYO picnic and teddy to enjoy in Sam’s garden Playground from 11.30 am then join us for a treasure hunt around the museum at 12.30 pm. 30 minutes followed by free museum roam.\nActivity £2. Please book picnic tables on (01652) 635172. \n
URL:https://www.barton-upon-humber.org.uk/event/teddy-bears-playground-picnic-treasure-hunt/
LOCATION:Queen Street\, Barton-upon-Humber\, North Lincolnshire\, DN18 5QP
CATEGORIES:Family Friendly,Heritage
ORGANIZER;CN="Wilderspin%20School%20Museum":MAILTO:enquiries@wilderspinschool.org.uk
END:VEVENT
END:VCALENDAR