BEGIN:VCALENDAR
VERSION:2.0
PRODID:-//Barton upon Humber Tourism - ECPv4.6.21//NONSGML v1.0//EN
CALSCALE:GREGORIAN
METHOD:PUBLISH
X-WR-CALNAME:Barton upon Humber Tourism
X-ORIGINAL-URL:https://www.barton-upon-humber.org.uk
X-WR-CALDESC:Events for Barton upon Humber Tourism
BEGIN:VEVENT
DTSTART;TZID=Europe/London:20250813T130000
DTEND;TZID=Europe/London:20250813T150000
DTSTAMP:20260420T035734
CREATED:20250501T154852Z
LAST-MODIFIED:20250501T154852Z
UID:17440-1755090000-1755097200@www.barton-upon-humber.org.uk
SUMMARY:Feathered Friends at Far Ings Nature Reserve
DESCRIPTION:An afternoon workshop of crafts & activities all about sparrows & swifts. Learn more about these familiar birds which share our homes\, gardens and parks.  Advance booking only. \n£5 per child. \n  \n
URL:https://www.barton-upon-humber.org.uk/event/feathered-friends-at-far-ings-nature-reserve/
LOCATION:Far Ings National Nature Reserve\, Far Ings Road\, Barton-upon-Humber\, North Lincolnshire\, United Kingdom
CATEGORIES:Family Friendly
END:VEVENT
END:VCALENDAR