BEGIN:VCALENDAR
VERSION:2.0
PRODID:-//Barton upon Humber Tourism - ECPv4.6.21//NONSGML v1.0//EN
CALSCALE:GREGORIAN
METHOD:PUBLISH
X-WR-CALNAME:Barton upon Humber Tourism
X-ORIGINAL-URL:https://www.barton-upon-humber.org.uk
X-WR-CALDESC:Events for Barton upon Humber Tourism
BEGIN:VEVENT
DTSTART;TZID=Europe/London:20250810T130000
DTEND;TZID=Europe/London:20250810T150000
DTSTAMP:20260420T035623
CREATED:20250716T100349Z
LAST-MODIFIED:20250716T100349Z
UID:17582-1754830800-1754838000@www.barton-upon-humber.org.uk
SUMMARY:Drama Workshops at Wilderspin National School
DESCRIPTION:Drama workshops for budding performers with a showcase performance on 31 August. Come along to one or more of the weekly sessions. 10:30 am – 12:30 pm\, ages 7 – 11; 13:00pm – 15:00 pm\, ages 11 – 16.\n£4 per session or £20 for all 7 sessions. \n
URL:https://www.barton-upon-humber.org.uk/event/drama-workshops-at-wilderspin-national-school/2025-08-10/
LOCATION:Queen Street\, Barton-upon-Humber\, North Lincolnshire\, DN18 5QP
CATEGORIES:Family Friendly,Theatre,Workshops
ORGANIZER;CN="Wilderspin%20School%20Museum":MAILTO:enquiries@wilderspinschool.org.uk
END:VEVENT
END:VCALENDAR