BEGIN:VCALENDAR
VERSION:2.0
PRODID:-//Barton upon Humber Tourism - ECPv4.6.21//NONSGML v1.0//EN
CALSCALE:GREGORIAN
METHOD:PUBLISH
X-WR-CALNAME:Barton upon Humber Tourism
X-ORIGINAL-URL:https://www.barton-upon-humber.org.uk
X-WR-CALDESC:Events for Barton upon Humber Tourism
BEGIN:VEVENT
DTSTART;TZID=Europe/London:20250323T193000
DTEND;TZID=Europe/London:20250323T210000
DTSTAMP:20260419T153513
CREATED:20250120T094910Z
LAST-MODIFIED:20250120T094919Z
UID:16839-1742758200-1742763600@www.barton-upon-humber.org.uk
SUMMARY:Simon Evans- Have We Met?
DESCRIPTION:  \nCompleting the Trilogy begun with Genius 2.0 and The Work of the Devil\, Have We Met? finds Simon standing\, like Ulysses in Tennyson’s famous verse\, gazing out over the moaning deep and the twinkling rocks and wondering whether to seek a newer world? To smite the sounding furrows? To strive\, to seek\, and to find? Or whether in fact\, to put the kettle on\, crack open the Hobnobs and simply yield? Drawing on Joyce\, Proust and the career of Philip Schofield to make sense of his own tangled past and possible future\, Evans skilfully weaves comedy\, pathos and narrowly averted cancellation into an unforgettable two hours of unique entertainment. \n
URL:https://www.barton-upon-humber.org.uk/event/simon-evans-have-we-met/
LOCATION:The Ropewalk\, Maltkiln Road\, Barton upon Humber\, North Lincolnshire\, DN18 5JT\, United Kingdom
CATEGORIES:Comedy
ORGANIZER;CN="Ropery%20Hall":MAILTO:info@the-ropewalk.co.uk
END:VEVENT
END:VCALENDAR