BEGIN:VCALENDAR
VERSION:2.0
PRODID:-//Barton upon Humber Tourism - ECPv4.6.21//NONSGML v1.0//EN
CALSCALE:GREGORIAN
METHOD:PUBLISH
X-WR-CALNAME:Barton upon Humber Tourism
X-ORIGINAL-URL:https://www.barton-upon-humber.org.uk
X-WR-CALDESC:Events for Barton upon Humber Tourism
BEGIN:VEVENT
DTSTART;TZID=Europe/London:20250228T200000
DTEND;TZID=Europe/London:20250228T220000
DTSTAMP:20260419T153451
CREATED:20250119T102827Z
LAST-MODIFIED:20250119T102827Z
UID:16817-1740772800-1740780000@www.barton-upon-humber.org.uk
SUMMARY:Barnstormers Comedy Club
DESCRIPTION:Our regular comedy club returns with a selection of comedians from the national circuit and our Barnstormer’s compere. \n
URL:https://www.barton-upon-humber.org.uk/event/barnstormers-comedy-club-4/
LOCATION:The Ropewalk\, Maltkiln Road\, Barton upon Humber\, North Lincolnshire\, DN18 5JT\, United Kingdom
CATEGORIES:Comedy
ORGANIZER;CN="Ropery%20Hall":MAILTO:info@the-ropewalk.co.uk
END:VEVENT
END:VCALENDAR