BEGIN:VCALENDAR
VERSION:2.0
PRODID:-//Barton upon Humber Tourism - ECPv4.6.21//NONSGML v1.0//EN
CALSCALE:GREGORIAN
METHOD:PUBLISH
X-WR-CALNAME:Barton upon Humber Tourism
X-ORIGINAL-URL:https://www.barton-upon-humber.org.uk
X-WR-CALDESC:Events for Barton upon Humber Tourism
BEGIN:VEVENT
DTSTART;TZID=Europe/London:20250214T200000
DTEND;TZID=Europe/London:20250214T213000
DTSTAMP:20260419T172031
CREATED:20250119T101842Z
LAST-MODIFIED:20250119T101842Z
UID:16806-1739563200-1739568600@www.barton-upon-humber.org.uk
SUMMARY:Justin Moorhouse: The Greatest Performance of My Life Friday
DESCRIPTION:Get ready for an unforgettable experience as Justin returns with “The Greatest Performance of My Life”.\nAfter a successful and extensively extended tour of his 2022 show Stretch and Think (which you can catch in full on YouTube)\, he’s back on the road with this new show. The story covers subjects ranging from pantomimes to dreams\, how to behave in hospitals\, small talk\, realising his Mum is a northern version of Columbo\, and how being a smart-mouthed kid saved him from a life of continually being beaten up. Above all else\, it’s the Justin you have to come to expect. It’s funny and interesting\, and perhaps there’s a little bit that warms the soul\, too. Age guidance: 14+ \n
URL:https://www.barton-upon-humber.org.uk/event/justin-moorhouse-the-greatest-performance-of-my-life-friday/
LOCATION:The Ropewalk\, Maltkiln Road\, Barton upon Humber\, North Lincolnshire\, DN18 5JT\, United Kingdom
CATEGORIES:Comedy
ORGANIZER;CN="Ropery%20Hall":MAILTO:info@the-ropewalk.co.uk
END:VEVENT
END:VCALENDAR