BEGIN:VCALENDAR
VERSION:2.0
PRODID:-//Barton upon Humber Tourism - ECPv4.6.21//NONSGML v1.0//EN
CALSCALE:GREGORIAN
METHOD:PUBLISH
X-WR-CALNAME:Barton upon Humber Tourism
X-ORIGINAL-URL:https://www.barton-upon-humber.org.uk
X-WR-CALDESC:Events for Barton upon Humber Tourism
BEGIN:VEVENT
DTSTART;TZID=Europe/London:20250209T200000
DTEND;TZID=Europe/London:20250209T213000
DTSTAMP:20260419T172149
CREATED:20250118T103715Z
LAST-MODIFIED:20250118T103715Z
UID:16800-1739131200-1739136600@www.barton-upon-humber.org.uk
SUMMARY:Lucy Porter - No Regrets
DESCRIPTION:The irrepressible Lucy Porter bounces back into action with a show all about regrets. Frank Sinatra had too few to mention\, but Lucy’s got hundreds\, and she’s prepared to go into graphic detail about all of them. Disastrous dates\, professional calamities\, ruined friendships and parenting fails. Lucy describes all the mistakes she’s made\, works out why they happened\, and ponders how her life would have turned out if she’d acted differently. Lucy looks at the things we might all collectively regret – not sticking to the work-life balance we strove for during lockdown\, not realising that clapping for the NHS wouldn’t be enough to save it\, allowing people we thought were quite fun on TV to become politicians. \n
URL:https://www.barton-upon-humber.org.uk/event/lucy-porter-no-regrets/
LOCATION:The Ropewalk\, Maltkiln Road\, Barton upon Humber\, North Lincolnshire\, DN18 5JT\, United Kingdom
CATEGORIES:Comedy
ORGANIZER;CN="Ropery%20Hall":MAILTO:info@the-ropewalk.co.uk
END:VEVENT
END:VCALENDAR