BEGIN:VCALENDAR
VERSION:2.0
PRODID:-//Barton upon Humber Tourism - ECPv4.6.21//NONSGML v1.0//EN
CALSCALE:GREGORIAN
METHOD:PUBLISH
X-WR-CALNAME:Barton upon Humber Tourism
X-ORIGINAL-URL:https://www.barton-upon-humber.org.uk
X-WR-CALDESC:Events for Barton upon Humber Tourism
BEGIN:VEVENT
DTSTART;TZID=Europe/London:20250202T200000
DTEND;TZID=Europe/London:20250202T213000
DTSTAMP:20260419T184704
CREATED:20250118T103101Z
LAST-MODIFIED:20250118T103101Z
UID:16792-1738526400-1738531800@www.barton-upon-humber.org.uk
SUMMARY:John Shuttleworth RAISE THE OOF
DESCRIPTION:Radio 4 favourite\, comedy legend\, and ‘the 42nd best reason to love Britain’ (The Telegraph) JOHN SHUTTLEWORTH\, is back with more hilarious stories and songs performed on his trusty Yamaha organ (with built-in auto accompaniment!) In RAISE THE OOF John celebrates 40 years in showbiz. Yes\, it was 1985 when he met TV’s Clarinet Man – next door neighbour Ken Worthington who came last on New Faces in 73 (Tony Hatch crucified him!) \n
URL:https://www.barton-upon-humber.org.uk/event/john-shuttleworth-raise-the-oof/2025-02-02/
LOCATION:The Ropewalk\, Maltkiln Road\, Barton upon Humber\, North Lincolnshire\, DN18 5JT\, United Kingdom
CATEGORIES:Comedy
ORGANIZER;CN="Ropery%20Hall":MAILTO:info@the-ropewalk.co.uk
END:VEVENT
END:VCALENDAR