BEGIN:VCALENDAR
VERSION:2.0
PRODID:-//Barton upon Humber Tourism - ECPv4.6.21//NONSGML v1.0//EN
CALSCALE:GREGORIAN
METHOD:PUBLISH
X-WR-CALNAME:Barton upon Humber Tourism
X-ORIGINAL-URL:https://www.barton-upon-humber.org.uk
X-WR-CALDESC:Events for Barton upon Humber Tourism
BEGIN:VEVENT
DTSTART;TZID=Europe/London:20250117T200000
DTEND;TZID=Europe/London:20250117T213000
DTSTAMP:20260419T184603
CREATED:20250118T101904Z
LAST-MODIFIED:20250118T101904Z
UID:16779-1737144000-1737149400@www.barton-upon-humber.org.uk
SUMMARY:Scottish Falsetto Sock Puppet Theatre Company presents Post Office Scandal The Musical
DESCRIPTION:The Socks’ 13th brand new comedy show\, all done in the best possible taste. Honest! An hour of songs\, sketches\, socks and violence\, telling the true story of the Post Office Scandal\, and much\, much\, more.\nPost Office Scandal follows such Edinburgh Fringe hits as Socks Do Shakespeare\, Socks Do Superheroes\, Eurovision Sock Contest\, and The Socky Horror Show. \n
URL:https://www.barton-upon-humber.org.uk/event/scottish-falsetto-sock-puppet-theatre-company-presents-post-office-scandal-the-musical/
LOCATION:The Ropewalk\, Maltkiln Road\, Barton upon Humber\, North Lincolnshire\, DN18 5JT\, United Kingdom
CATEGORIES:Comedy
ORGANIZER;CN="Ropery%20Hall":MAILTO:info@the-ropewalk.co.uk
END:VEVENT
END:VCALENDAR