BEGIN:VCALENDAR
VERSION:2.0
PRODID:-//Barton upon Humber Tourism - ECPv4.6.21//NONSGML v1.0//EN
CALSCALE:GREGORIAN
METHOD:PUBLISH
X-WR-CALNAME:Barton upon Humber Tourism
X-ORIGINAL-URL:https://www.barton-upon-humber.org.uk
X-WR-CALDESC:Events for Barton upon Humber Tourism
BEGIN:VEVENT
DTSTART;TZID=Europe/London:20241129T200000
DTEND;TZID=Europe/London:20241129T223000
DTSTAMP:20260419T203350
CREATED:20240807T104011Z
LAST-MODIFIED:20240807T104011Z
UID:16077-1732910400-1732919400@www.barton-upon-humber.org.uk
SUMMARY:Barnstormers Comedy November 2024 at Ropery Hall
DESCRIPTION:Another installment of our popular comedy club featuring three comedians from the national circuit and our Barnstormer’s compere. \n
URL:https://www.barton-upon-humber.org.uk/event/barnstormers-comedy-november-2024-at-ropery-hall/
LOCATION:The Ropewalk\, Maltkiln Road\, Barton upon Humber\, North Lincolnshire\, DN18 5JT\, United Kingdom
CATEGORIES:Comedy
ORGANIZER;CN="Ropery%20Hall":MAILTO:info@the-ropewalk.co.uk
END:VEVENT
END:VCALENDAR