BEGIN:VCALENDAR
VERSION:2.0
PRODID:-//Barton upon Humber Tourism - ECPv4.6.21//NONSGML v1.0//EN
CALSCALE:GREGORIAN
METHOD:PUBLISH
X-WR-CALNAME:Barton upon Humber Tourism
X-ORIGINAL-URL:https://www.barton-upon-humber.org.uk
X-WR-CALDESC:Events for Barton upon Humber Tourism
BEGIN:VEVENT
DTSTART;TZID=Europe/London:20241020T200000
DTEND;TZID=Europe/London:20241020T220000
DTSTAMP:20260419T234806
CREATED:20240520T112445Z
LAST-MODIFIED:20240520T112445Z
UID:15464-1729454400-1729461600@www.barton-upon-humber.org.uk
SUMMARY:Lloyd Griffith at Ropery Hall
DESCRIPTION:Fresh from supporting Jack Whitehall on his 2023 UK arena tour\, comedian Lloyd Griffith is back with a brand new show ‘Baroque and Roll’. It’s a big year for Lloyd\, he’s turning 40 and with it\, the impending midlife crisis – or ‘renaissance’ as he’s insisting it’s called; complete with body hair removal\, head hair additions\, teeth whitening and obviously the obligatory half marathon sign up. It’ll be funny and yes\, there’ll be the odd song or two from that magnificent voice of his. \nAs seen on Ted Lasso (Apple)\, Nolly (ITV)\, Soccer AM (RIP)\, 8 Out of 10 Cats (Channel 4)\, Can you beat the bookies (BBC)\, Live at The Comedy Store (Comedy Central)\, House of Games (BBC). \n
URL:https://www.barton-upon-humber.org.uk/event/lloyd-griffith-at-ropery-hall/
LOCATION:The Ropewalk\, Maltkiln Road\, Barton upon Humber\, North Lincolnshire\, DN18 5JT\, United Kingdom
CATEGORIES:Comedy
ORGANIZER;CN="Ropery%20Hall":MAILTO:info@the-ropewalk.co.uk
END:VEVENT
END:VCALENDAR