BEGIN:VCALENDAR
VERSION:2.0
PRODID:-//Barton upon Humber Tourism - ECPv4.6.21//NONSGML v1.0//EN
CALSCALE:GREGORIAN
METHOD:PUBLISH
X-WR-CALNAME:Barton upon Humber Tourism
X-ORIGINAL-URL:https://www.barton-upon-humber.org.uk
X-WR-CALDESC:Events for Barton upon Humber Tourism
BEGIN:VEVENT
DTSTART;TZID=Europe/London:20240928T200000
DTEND;TZID=Europe/London:20240928T220000
DTSTAMP:20260420T013315
CREATED:20240520T111005Z
LAST-MODIFIED:20240520T111005Z
UID:15449-1727553600-1727560800@www.barton-upon-humber.org.uk
SUMMARY:Ian Smith at Ropery Hall
DESCRIPTION:Ian Smith (as heard on BBC Radio 4’s The News Quiz. The Now Show. Just a Minute and co-hosting the Northern News podcast) presents a show about stress\, love and driving a tank with your hairdresser. Three classic and timeless themes. After a sell-out run at the Edinburgh Fringe\, Ian Smith brings his critically acclaimed and multi-award nominated show on tour. \n
URL:https://www.barton-upon-humber.org.uk/event/ian-smith-at-ropery-hall/
LOCATION:The Ropewalk\, Maltkiln Road\, Barton upon Humber\, North Lincolnshire\, DN18 5JT\, United Kingdom
CATEGORIES:Comedy
ORGANIZER;CN="Ropery%20Hall":MAILTO:info@the-ropewalk.co.uk
END:VEVENT
END:VCALENDAR