BEGIN:VCALENDAR
VERSION:2.0
PRODID:-//Barton upon Humber Tourism - ECPv4.6.21//NONSGML v1.0//EN
CALSCALE:GREGORIAN
METHOD:PUBLISH
X-WR-CALNAME:Barton upon Humber Tourism
X-ORIGINAL-URL:https://www.barton-upon-humber.org.uk
X-WR-CALDESC:Events for Barton upon Humber Tourism
BEGIN:VEVENT
DTSTART;TZID=Europe/London:20231112T193000
DTEND;TZID=Europe/London:20231112T213000
DTSTAMP:20260422T142148
CREATED:20230712T095751Z
LAST-MODIFIED:20230712T095751Z
UID:13785-1699817400-1699824600@www.barton-upon-humber.org.uk
SUMMARY:Scott Bennett: Great Scott at Ropery Hall
DESCRIPTION:Recently described by the Evening Standard as “Live Comedy’s best kept secret” Scott Bennett has been blazing a trail through the stand-up circuit for the best part of a decade. He’s written for many high profile acts such as Chris Ramsey and Jason Manford\, and recently recorded his debut on BBC One’s Live at the Apollo. In massive demand as a comedy writer and with regular appearances on BBC Radio 4’s The News Quiz and The Now Show\, Scott is an act on the verge of breaking through into the big time. \n
URL:https://www.barton-upon-humber.org.uk/event/scott-bennett-great-scott-at-ropery-hall/
LOCATION:The Ropewalk\, Maltkiln Road\, Barton upon Humber\, North Lincolnshire\, DN18 5JT\, United Kingdom
CATEGORIES:Comedy
ORGANIZER;CN="Ropery%20Hall":MAILTO:info@the-ropewalk.co.uk
END:VEVENT
END:VCALENDAR