BEGIN:VCALENDAR
VERSION:2.0
PRODID:-//Barton upon Humber Tourism - ECPv4.6.21//NONSGML v1.0//EN
CALSCALE:GREGORIAN
METHOD:PUBLISH
X-WR-CALNAME:Barton upon Humber Tourism
X-ORIGINAL-URL:https://www.barton-upon-humber.org.uk
X-WR-CALDESC:Events for Barton upon Humber Tourism
BEGIN:VEVENT
DTSTART;TZID=Europe/London:20230929T200000
DTEND;TZID=Europe/London:20230929T220000
DTSTAMP:20260422T160509
CREATED:20230712T093624Z
LAST-MODIFIED:20230712T093624Z
UID:13769-1696017600-1696024800@www.barton-upon-humber.org.uk
SUMMARY:Charlie Baker: 24 Hour Pasty People at Ropery Hall
DESCRIPTION:Wasson? Award-winning comedian\, tap dancer and talkSPORT radio host Charlie Baker brings an hour of ‘genuinely funny ★★★★’ (The Herald) stand-up drenched in manure\, cider and clotted cream to your village/town/cattle market. Comedy with a countryside accent. Imagine Jethro and Jack Black had a son. Job’s a good’un. Proper job. \nAs seen on The Last Leg\, House of Games\, Harry Hill’s Tea Time\, Comedy Central at the Comedy Store\, The Great British Bake-Off: An Extra Slice\, Never Mind The Buzzcocks\, and Channel 4’s Comedy Gala. Starring lead in Harry Hill and Steve Brown’s critically acclaimed musical Tony! The Tony Blair Rock Opera. \n
URL:https://www.barton-upon-humber.org.uk/event/charlie-baker-24-hour-pasty-people-at-ropery-hall/
LOCATION:The Ropewalk\, Maltkiln Road\, Barton upon Humber\, North Lincolnshire\, DN18 5JT\, United Kingdom
CATEGORIES:Comedy
ORGANIZER;CN="Ropery%20Hall":MAILTO:info@the-ropewalk.co.uk
END:VEVENT
END:VCALENDAR