BEGIN:VCALENDAR
VERSION:2.0
PRODID:-//Barton upon Humber Tourism - ECPv4.6.21//NONSGML v1.0//EN
CALSCALE:GREGORIAN
METHOD:PUBLISH
X-WR-CALNAME:Barton upon Humber Tourism
X-ORIGINAL-URL:https://www.barton-upon-humber.org.uk
X-WR-CALDESC:Events for Barton upon Humber Tourism
BEGIN:VEVENT
DTSTART;TZID=Europe/London:20230317T200000
DTEND;TZID=Europe/London:20230317T220000
DTSTAMP:20260423T034635
CREATED:20230105T103224Z
LAST-MODIFIED:20230105T103224Z
UID:13286-1679083200-1679090400@www.barton-upon-humber.org.uk
SUMMARY:Sally-Anne Hayward at Ropery Hall
DESCRIPTION:Tour support for Sarah Millican\, the hilarious Sally-Anne Hayward is one of the leading comics on the UK circuit with her dry but playful look at how we live our lives. In her new show “Ever So Nice” she will teach you how to indulge another break up story\, jazz up an office full of passive aggressive moaners/twats/hypochondriacs\, and create fake tears to blend into any situation. Namaste. \n
URL:https://www.barton-upon-humber.org.uk/event/sally-anne-hayward-at-ropery-hall/
LOCATION:The Ropewalk\, Maltkiln Road\, Barton upon Humber\, North Lincolnshire\, DN18 5JT\, United Kingdom
CATEGORIES:Comedy
ORGANIZER;CN="The%20Ropewalk":MAILTO:info@the-ropewalk.co.uk
END:VEVENT
END:VCALENDAR