BEGIN:VCALENDAR
VERSION:2.0
PRODID:-//Barton upon Humber Tourism - ECPv4.6.21//NONSGML v1.0//EN
CALSCALE:GREGORIAN
METHOD:PUBLISH
X-WR-CALNAME:Barton upon Humber Tourism
X-ORIGINAL-URL:https://www.barton-upon-humber.org.uk
X-WR-CALDESC:Events for Barton upon Humber Tourism
BEGIN:VEVENT
DTSTART;TZID=Europe/London:20230224T200000
DTEND;TZID=Europe/London:20230224T220000
DTSTAMP:20260423T055754
CREATED:20230105T100819Z
LAST-MODIFIED:20230105T100819Z
UID:13263-1677268800-1677276000@www.barton-upon-humber.org.uk
SUMMARY:Barnstormers Comedy Club
DESCRIPTION:Another great night of comedy featuring three comedians from the stand up circuit and our Barnstormer’s compere. \n
URL:https://www.barton-upon-humber.org.uk/event/barnstormers-comedy-club/
LOCATION:The Ropewalk\, Maltkiln Road\, Barton upon Humber\, North Lincolnshire\, DN18 5JT\, United Kingdom
CATEGORIES:Comedy
ORGANIZER;CN="The%20Ropewalk":MAILTO:info@the-ropewalk.co.uk
END:VEVENT
END:VCALENDAR