BEGIN:VCALENDAR
VERSION:2.0
PRODID:-//Barton upon Humber Tourism - ECPv4.6.21//NONSGML v1.0//EN
CALSCALE:GREGORIAN
METHOD:PUBLISH
X-WR-CALNAME:Barton upon Humber Tourism
X-ORIGINAL-URL:https://www.barton-upon-humber.org.uk
X-WR-CALDESC:Events for Barton upon Humber Tourism
BEGIN:VEVENT
DTSTART;TZID=Europe/London:20230211T200000
DTEND;TZID=Europe/London:20230211T220000
DTSTAMP:20260423T053723
CREATED:20221102T093657Z
LAST-MODIFIED:20230105T095749Z
UID:13097-1676145600-1676152800@www.barton-upon-humber.org.uk
SUMMARY:Angela Barnes: Hot Mess at Ropery Hall
DESCRIPTION:Angela Barnes (Mock The Week\, Live at the Apollo\, 8 Out of 10 Cats Does Countdown and former chair of BBC Radio 4’s The News Quiz) has good intentions but trying to live your best life\, as it turns out\, is really bloody hard. Stand-up\, stories and jokes from “…a gloriously down-to-earth\, straight-talking and extremely funny comic” (Guardian). \n
URL:https://www.barton-upon-humber.org.uk/event/angela-barnes-hot-mess-at-ropery-hall/
LOCATION:The Ropewalk\, Maltkiln Road\, Barton upon Humber\, North Lincolnshire\, DN18 5JT\, United Kingdom
CATEGORIES:Comedy
ORGANIZER;CN="The%20Ropewalk":MAILTO:info@the-ropewalk.co.uk
END:VEVENT
END:VCALENDAR