BEGIN:VCALENDAR
VERSION:2.0
PRODID:-//Barton upon Humber Tourism - ECPv4.6.21//NONSGML v1.0//EN
CALSCALE:GREGORIAN
METHOD:PUBLISH
X-WR-CALNAME:Barton upon Humber Tourism
X-ORIGINAL-URL:https://www.barton-upon-humber.org.uk
X-WR-CALDESC:Events for Barton upon Humber Tourism
BEGIN:VEVENT
DTSTART;TZID=Europe/London:20220611T160000
DTEND;TZID=Europe/London:20220611T180000
DTSTAMP:20260423T192557
CREATED:20220119T104809Z
LAST-MODIFIED:20220510T132908Z
UID:12551-1654963200-1654970400@www.barton-upon-humber.org.uk
SUMMARY:Gary Delaney at Ropery Hall
DESCRIPTION:Get ready to dive into a rabbit hole of the best jokes in the world – star of Live at the Apollo and sell-out sensation Gary Delaney is back! One of the most sought after joke writers in the country and longstanding Mock the Week special guest\, Gary has been through the laughing glass and he’s ready to bring you a brand new show with hit after hit of the kind of one-liners only a master could craft. If you’re hunting for snark\, Gary’s got it covered! \n
URL:https://www.barton-upon-humber.org.uk/event/gary-delaney-at-ropery-hall/
LOCATION:The Ropewalk\, Maltkiln Road\, Barton upon Humber\, North Lincolnshire\, DN18 5JT\, United Kingdom
CATEGORIES:Comedy
ORGANIZER;CN="Ropery%20Hall":MAILTO:info@the-ropewalk.co.uk
END:VEVENT
BEGIN:VEVENT
DTSTART;TZID=Europe/London:20220611T200000
DTEND;TZID=Europe/London:20220611T220000
DTSTAMP:20260423T192557
CREATED:20220119T104936Z
LAST-MODIFIED:20220510T132949Z
UID:12553-1654977600-1654984800@www.barton-upon-humber.org.uk
SUMMARY:Gary Delaney at Ropery Hall
DESCRIPTION:Get ready to dive into a rabbit hole of the best jokes in the world – star of Live at the Apollo and sell-out sensation Gary Delaney is back! One of the most sought after joke writers in the country and longstanding Mock the Week special guest\, Gary has been through the laughing glass and he’s ready to bring you a brand new show with hit after hit of the kind of one-liners only a master could craft. If you’re hunting for snark\, Gary’s got it covered! \n
URL:https://www.barton-upon-humber.org.uk/event/gary-delaney-at-ropery-hall-2/
LOCATION:The Ropewalk\, Maltkiln Road\, Barton upon Humber\, North Lincolnshire\, DN18 5JT\, United Kingdom
CATEGORIES:Comedy
ORGANIZER;CN="Ropery%20Hall":MAILTO:info@the-ropewalk.co.uk
END:VEVENT
END:VCALENDAR