BEGIN:VCALENDAR
VERSION:2.0
PRODID:-//Barton upon Humber Tourism - ECPv4.6.21//NONSGML v1.0//EN
CALSCALE:GREGORIAN
METHOD:PUBLISH
X-WR-CALNAME:Barton upon Humber Tourism
X-ORIGINAL-URL:https://www.barton-upon-humber.org.uk
X-WR-CALDESC:Events for Barton upon Humber Tourism
BEGIN:VEVENT
DTSTART;TZID=Europe/London:20220319T200000
DTEND;TZID=Europe/London:20220319T220000
DTSTAMP:20260424T165456
CREATED:20220119T095731Z
LAST-MODIFIED:20220119T095731Z
UID:12516-1647720000-1647727200@www.barton-upon-humber.org.uk
SUMMARY:Alfie Moore at Ropery Hall
DESCRIPTION:Join former Humberside police sergeant-turned-comedian Alfie Moore for his brand new hilarious\, interactive preview ahead of recording the seventh series of his critically acclaimed BBC Radio 4 comedy show ‘It’s A Fair Cop’. Come and enjoy an evening with a very funny man that will be revealing\, thought-provoking and always entertaining. Get your tickets before they sell out again. It’d be a crime to miss it \n
URL:https://www.barton-upon-humber.org.uk/event/alfie-moore-at-ropery-hall/
LOCATION:The Ropewalk\, Maltkiln Road\, Barton upon Humber\, North Lincolnshire\, DN18 5JT\, United Kingdom
CATEGORIES:Comedy
ORGANIZER;CN="Ropery%20Hall":MAILTO:info@the-ropewalk.co.uk
END:VEVENT
END:VCALENDAR