BEGIN:VCALENDAR
VERSION:2.0
PRODID:-//Barton upon Humber Tourism - ECPv4.6.21//NONSGML v1.0//EN
CALSCALE:GREGORIAN
METHOD:PUBLISH
X-WR-CALNAME:Barton upon Humber Tourism
X-ORIGINAL-URL:https://www.barton-upon-humber.org.uk
X-WR-CALDESC:Events for Barton upon Humber Tourism
BEGIN:VEVENT
DTSTART;TZID=Europe/London:20220225T200000
DTEND;TZID=Europe/London:20220225T220000
DTSTAMP:20260424T185955
CREATED:20220119T093019Z
LAST-MODIFIED:20220119T093019Z
UID:12492-1645819200-1645826400@www.barton-upon-humber.org.uk
SUMMARY:Barnstormers Comedy Club at Ropery Hall
DESCRIPTION:Join us for an evening of top flight stand-up comedy. As ever\, a lovely Barnstormers Comedy MC will be on hand to introduce three more excellent acts from the UK Comedy Circuit and beyond. \nTonight they are the excellent observational stand-up Paul Ricketts\, ‘Weird and wonderful… Ricketts should be given his own TV show‘ – The Stage; the gloriously silly Stephanie Laing\, ‘Definitely one to watch’ – Three Weeks; and wonderful Welsh wordplay wizard and BGT star Noel James\, ‘Stands out like a droll giant in a comedy land of trite dwarfs‘ – The Independent \n  \n
URL:https://www.barton-upon-humber.org.uk/event/barnstormers-comedy-club-at-ropery-hall-7/
LOCATION:The Ropewalk\, Maltkiln Road\, Barton upon Humber\, North Lincolnshire\, DN18 5JT\, United Kingdom
CATEGORIES:Comedy
ORGANIZER;CN="Ropery%20Hall":MAILTO:info@the-ropewalk.co.uk
END:VEVENT
END:VCALENDAR