BEGIN:VCALENDAR
VERSION:2.0
PRODID:-//Barton upon Humber Tourism - ECPv4.6.21//NONSGML v1.0//EN
CALSCALE:GREGORIAN
METHOD:PUBLISH
X-WR-CALNAME:Barton upon Humber Tourism
X-ORIGINAL-URL:https://www.barton-upon-humber.org.uk
X-WR-CALDESC:Events for Barton upon Humber Tourism
BEGIN:VEVENT
DTSTART;TZID=Europe/London:20211126T200000
DTEND;TZID=Europe/London:20211126T220000
DTSTAMP:20260421T220552
CREATED:20210712T103435Z
LAST-MODIFIED:20210712T103435Z
UID:12215-1637956800-1637964000@www.barton-upon-humber.org.uk
SUMMARY:Barnstormers Comedy Club at Ropery Hall
DESCRIPTION:Stand-up comedy from the national circuit. Compare Kevin Precious introduces three acts. \n
URL:https://www.barton-upon-humber.org.uk/event/barnstormers-comedy-club-at-ropery-hall-2/
LOCATION:The Ropewalk\, Maltkiln Road\, Barton upon Humber\, North Lincolnshire\, DN18 5JT\, United Kingdom
CATEGORIES:Comedy
ORGANIZER;CN="The%20Ropewalk":MAILTO:info@the-ropewalk.co.uk
END:VEVENT
END:VCALENDAR