BEGIN:VCALENDAR
VERSION:2.0
PRODID:-//Barton upon Humber Tourism - ECPv4.6.21//NONSGML v1.0//EN
CALSCALE:GREGORIAN
METHOD:PUBLISH
X-WR-CALNAME:Barton upon Humber Tourism
X-ORIGINAL-URL:https://www.barton-upon-humber.org.uk
X-WR-CALDESC:Events for Barton upon Humber Tourism
BEGIN:VEVENT
DTSTART;TZID=Europe/London:20211002T200000
DTEND;TZID=Europe/London:20211002T220000
DTSTAMP:20260419T153349
CREATED:20210712T092851Z
LAST-MODIFIED:20210712T092851Z
UID:12169-1633204800-1633212000@www.barton-upon-humber.org.uk
SUMMARY:Jack Gleadow: Mr Saturday Night at Ropery Hall
DESCRIPTION:Winner of Amused Moose National New Comic and Leicester Mercury Comedian of the Year\, and Chortle’s Best Newcomer nominee\, Hull born Jack Gleadow brings his hotly-anticipated show\, Edinburgh Fringe show Mr Saturday Night to Ropery Hall after performing as part of the prestigious Pleasance Comedy Reserve in 2018\, and now marking his debut national UK tour! Jack is in huge demand on the live comedy scene. All well as performing across the top UK comedy clubs he has performed at festivals such as Latitude and Glastonbury\, and has also provided tour support for Lloyd Griffith and Carl Hutchinson. \n
URL:https://www.barton-upon-humber.org.uk/event/jack-gleadow-mr-saturday-night-at-ropery-hall-2/
LOCATION:The Ropewalk\, Maltkiln Road\, Barton upon Humber\, North Lincolnshire\, DN18 5JT\, United Kingdom
CATEGORIES:Comedy
ORGANIZER;CN="The%20Ropewalk":MAILTO:info@the-ropewalk.co.uk
END:VEVENT
END:VCALENDAR