BEGIN:VCALENDAR
VERSION:2.0
PRODID:-//Barton upon Humber Tourism - ECPv4.6.21//NONSGML v1.0//EN
CALSCALE:GREGORIAN
METHOD:PUBLISH
X-WR-CALNAME:Barton upon Humber Tourism
X-ORIGINAL-URL:https://www.barton-upon-humber.org.uk
X-WR-CALDESC:Events for Barton upon Humber Tourism
BEGIN:VEVENT
DTSTART;TZID=Europe/London:20260328T080000
DTEND;TZID=Europe/London:20260517T170000
DTSTAMP:20260424T141417
CREATED:20260310T150724Z
LAST-MODIFIED:20260310T150724Z
UID:18303-1774684800-1779037200@www.barton-upon-humber.org.uk
SUMMARY:Camouflage Creatures Trail
DESCRIPTION:Explore the world of hidden wildlife with the Far Ings Nature Reserve Camouflage Creatures Trail. \n
URL:https://www.barton-upon-humber.org.uk/event/camouflage-creatures-trail/
LOCATION:Far Ings National Nature Reserve\, Far Ings Road\, Barton-upon-Humber\, North Lincolnshire\, United Kingdom
END:VEVENT
BEGIN:VEVENT
DTSTART;TZID=Europe/London:20260512T130000
DTEND;TZID=Europe/London:20260512T140000
DTSTAMP:20260424T141417
CREATED:20250214T105046Z
LAST-MODIFIED:20250214T105046Z
UID:17061-1778590800-1778594400@www.barton-upon-humber.org.uk
SUMMARY:Yoga for over 60s - Living Later Life Well
DESCRIPTION:Stretch and tone your body\, improve your flexibility and aid breathing and relaxation. \nAll Living Later Life Well sessions are for people aged 60+. For more information or to book your space\, contact Jo on 07821 900623 or email jo.marwood.bartontrinity@outlook.com \n£4 suggested donation \n
URL:https://www.barton-upon-humber.org.uk/event/yoga-for-over-60s-living-later-life-well/2026-05-12/
LOCATION:Holydyke\, Barton-upon-Humber\, North Lincolnshire\, DN18 5PS
ORGANIZER;CN="Living%20Later%20Life%20Well%20Project":MAILTO:jo.marwood.bartontrinity@outlook.com
END:VEVENT
END:VCALENDAR