BEGIN:VCALENDAR
VERSION:2.0
PRODID:-//Barton upon Humber Tourism - ECPv4.6.21//NONSGML v1.0//EN
CALSCALE:GREGORIAN
METHOD:PUBLISH
X-WR-CALNAME:Barton upon Humber Tourism
X-ORIGINAL-URL:https://www.barton-upon-humber.org.uk
X-WR-CALDESC:Events for Barton upon Humber Tourism
BEGIN:VEVENT
DTSTART;TZID=Europe/London:20240109T100000
DTEND;TZID=Europe/London:20240128T170000
DTSTAMP:20260419T152952
CREATED:20240115T103518Z
LAST-MODIFIED:20240115T103715Z
UID:15011-1704794400-1706461200@www.barton-upon-humber.org.uk
SUMMARY:Functional Ceramics in The Ropewalk's Box Gallery
DESCRIPTION:This month the Box Gallery features work by three potters who make “functional Ceramics” \nIan Morrison \nIan’s work is a contemporary look a country pottery. He focuses on line\, surface\, and balance. Ian wants his pots to convey an honesty about why and how they were made and for him the salt glazing process is a perfect application to achieve this. The pots\, heavily salt glazed become incredibly tactile as well as showing Ian’s hand at work\, as the maker\, not hiding but instead highlighting the subtle marks\, fingerprints from handling\, and attachments in a tasteful way. \nSophie Olivant \nInspired by the Oxcombe landscape and historic farmstead\, Sophie has developed glazes that not only reflect the colour palette of the environment but literally incorporate wood ash from trees on the estate. Made on site\, the work is wheel-thrown by Sophie in a traditional way\, with ergonomics and functionality in mind. Carved decorative surfaces\, pulled handles and splashes of Oxcombe blue add the final touches. After bisque firing\, the work is glazed in a range of Shino\, Wood Ash\, and other glazes and fired in our large gas kiln in a reduction atmosphere\, which brings out the warm tones of the iron-rich clay body and mineral elements in the glazes. The Oxcombe range is high fired making it hard wearing\, perfect for everyday use and suitable for use in the dishwasher. \nJosie Walter \nJosie taught for four years before she began working with clay. Starting out at with evening classes this became a real passion\, and in 1976 she enrolled on the Studio Ceramics course at Chesterfield College of Art. After three years being immersed in pottery\, Josie opened a workshop in Matlock with a fellow student. Needing to further her experience she applied for a job working at the Poterie du Don in the Auvergne\, France. Josie worked at Le Don as an apprentice for 6 months in 1980 making salt glazed domestic ware\, then returned to the workshop in Matlock where she made once fired decorated earthenware pottery. Now Josie is happily installed in a workshop that she had built in the garden at home. \n
URL:https://www.barton-upon-humber.org.uk/event/functional-ceramics-in-the-ropewalks-box-gallery/
LOCATION:Maltkiln Road\, Barton upon Humber\, North Lincolnshire\, DN18 5JT\, United Kingdom
CATEGORIES:Exhibition
ORGANIZER;CN="The%20Ropewalk":MAILTO:info@the-ropewalk.co.uk
END:VEVENT
BEGIN:VEVENT
DTSTART;TZID=Europe/London:20240113T100000
DTEND;TZID=Europe/London:20240303T170000
DTSTAMP:20260419T152952
CREATED:20240115T102929Z
LAST-MODIFIED:20240115T103610Z
UID:15008-1705140000-1709485200@www.barton-upon-humber.org.uk
SUMMARY:Julie Oxenforth's Totemic exhibition at The Ropewalk
DESCRIPTION:Julie  recycles found objects\, images and various materials to produce curious phenomena and new narratives. Trusting the process she focuses on the dynamics of form and space\, colour\, line and movement. Julie graduated from Sunderland University in 2005 with a distinction in MA Fine Art. Here\, her tutor described her as a Swiss roll; by osmosis her experiences\, environment and multiple interests are rolled up into one whole installation or body of work. With a neuro-divergent mind leaping about in different directions\, she is constantly seeking connections flowing through seemingly disparate thoughts and themes. Some of the objects she has collected were found in Egypt\, a place where she lived\, worked and exhibited for 7 years. Others are from house clearance of the parental home\, loaded with significance\, memory and loss. \nShe has exhibited in numerous groups shows\, and created solo installations in gallery and off-site spaces\, often in deprived areas\, in the UK and Egypt. She was a member of an artist collective Caravan in Egypt for several consecutive years\, resulting in her artwork being sited at The British Council in Cairo. This exhibition serves as a culmination of the last 5 years spent as a Ropewalk studio artist. \n
URL:https://www.barton-upon-humber.org.uk/event/julie-oxenforths-totemic-exhibition-at-the-ropewalk/
LOCATION:Maltkiln Road\, Barton upon Humber\, North Lincolnshire\, DN18 5JT\, United Kingdom
CATEGORIES:Exhibition
ORGANIZER;CN="The%20Ropewalk":MAILTO:info@the-ropewalk.co.uk
END:VEVENT
BEGIN:VEVENT
DTSTART;TZID=Europe/London:20240126T190000
DTEND;TZID=Europe/London:20240126T190000
DTSTAMP:20260419T152952
CREATED:20240104T110605Z
LAST-MODIFIED:20240104T110605Z
UID:14682-1706295600-1706295600@www.barton-upon-humber.org.uk
SUMMARY:Barton Ghost Walk by South Bank Players
DESCRIPTION:A spooky guided tour of historic Barton led by members of South Bank Players.\nBooking is recommended\, tickets £5 are available from www.sbplayers.co.uk \n
URL:https://www.barton-upon-humber.org.uk/event/barton-ghost-walk-by-south-bank-players/
LOCATION:North Lincolnshire
CATEGORIES:Heritage,Theatre
END:VEVENT
BEGIN:VEVENT
DTSTART;TZID=Europe/London:20240126T200000
DTEND;TZID=Europe/London:20240126T220000
DTSTAMP:20260419T152952
CREATED:20240108T101456Z
LAST-MODIFIED:20240108T102756Z
UID:14734-1706299200-1706306400@www.barton-upon-humber.org.uk
SUMMARY:Barnstormers Comedy Club at Ropery Hall
DESCRIPTION:The return of our regular Friday night comedy club featuring three top performers from the national circuit and our Barnstormers compere. Tonight’s bill features John Mann\, Lovdev Barpaga and Sam Harland. \n
URL:https://www.barton-upon-humber.org.uk/event/barnstormers-comedy-club-2/
LOCATION:The Ropewalk\, Maltkiln Road\, Barton upon Humber\, North Lincolnshire\, DN18 5JT\, United Kingdom
CATEGORIES:Comedy
ORGANIZER;CN="Ropery%20Hall":MAILTO:info@the-ropewalk.co.uk
END:VEVENT
END:VCALENDAR