BEGIN:VCALENDAR
VERSION:2.0
PRODID:-//Barton upon Humber Tourism - ECPv4.6.21//NONSGML v1.0//EN
CALSCALE:GREGORIAN
METHOD:PUBLISH
X-WR-CALNAME:Barton upon Humber Tourism
X-ORIGINAL-URL:https://www.barton-upon-humber.org.uk
X-WR-CALDESC:Events for Barton upon Humber Tourism
BEGIN:VEVENT
DTSTART;TZID=Europe/London:20230731T103000
DTEND;TZID=Europe/London:20230731T120000
DTSTAMP:20260421T084253
CREATED:20230711T101413Z
LAST-MODIFIED:20230711T101413Z
UID:13651-1690799400-1690804800@www.barton-upon-humber.org.uk
SUMMARY:Mermaid Pottery (Children)
DESCRIPTION:Join Karen Raithby the pottery lady behind Pentangle Pottery on a children’s workshop to make a design using clay. Create your own vibrant mermaid.\n£16pp\, Booking Essential \n
URL:https://www.barton-upon-humber.org.uk/event/mermaid-pottery-children/
LOCATION:Waters' Edge\, Maltkiln Road\, Barton-upon-Humber\, North Lincolnshire\, DN18 5BD\, United Kingdom
CATEGORIES:Art,Family Friendly
END:VEVENT
END:VCALENDAR